BEGIN:VCALENDAR
VERSION:2.0
PRODID:-//horsealert.local//NONSGML kigkonsult.se iCalcreator 2.10.5//
CALSCALE:GREGORIAN
X-WR-TIMEZONE:Europe/Dublin
BEGIN:VTIMEZONE
TZID:Etc/GMT-1
BEGIN:STANDARD
DTSTART:20010101T000000
TZOFFSETFROM:+0100
TZOFFSETTO:+0100
TZNAME:GMT +01:00
END:STANDARD
END:VTIMEZONE
BEGIN:VEVENT
UID:20260425T213746CEST-9868Udp8aM@horsealert.local
DTSTAMP:20260425T190446Z
CATEGORIES:Horse Alerts
DESCRIPTION:Michael O\'Murchadha Memorial Novice Handicap Hurdle \(80-109\)
DTSTART:20130317T153500
LOCATION:Eire
SUMMARY:Horse Racing:Michael O\'Murchadha Memorial Novice Handicap Hurdle \
 (80-109\)
END:VEVENT
END:VCALENDAR
