BEGIN:VCALENDAR
VERSION:2.0
PRODID:-//horsealert.local//NONSGML kigkonsult.se iCalcreator 2.10.5//
CALSCALE:GREGORIAN
X-WR-TIMEZONE:Europe/Dublin
BEGIN:VTIMEZONE
TZID:Etc/GMT-1
BEGIN:STANDARD
DTSTART:20010101T000000
TZOFFSETFROM:+0100
TZOFFSETTO:+0100
TZNAME:GMT +01:00
END:STANDARD
END:VTIMEZONE
BEGIN:VEVENT
UID:20260425T232100CEST-75836g0wxo@horsealert.local
DTSTAMP:20260425T210400Z
CATEGORIES:Horse Alerts
DESCRIPTION:Limerick Races Congratulate World Hurdle Winner Solwhit Hurdle
DTSTART:20130317T145500
LOCATION:Eire
SUMMARY:Horse Racing:Limerick Races Congratulate World Hurdle Winner Solwhi
 t Hurdle
END:VEVENT
END:VCALENDAR
