BEGIN:VCALENDAR
VERSION:2.0
PRODID:-//horsealert.local//NONSGML kigkonsult.se iCalcreator 2.10.5//
CALSCALE:GREGORIAN
X-WR-TIMEZONE:Europe/Dublin
BEGIN:VTIMEZONE
TZID:Etc/GMT-1
BEGIN:STANDARD
DTSTART:20010101T000000
TZOFFSETFROM:+0100
TZOFFSETTO:+0100
TZNAME:GMT +01:00
END:STANDARD
END:VTIMEZONE
BEGIN:VEVENT
UID:20260425T213714CEST-4951TLA5SS@horsealert.local
DTSTAMP:20260425T190414Z
CATEGORIES:Horse Alerts
DESCRIPTION:Pamela Nicholson Bell Birthday Novices\' Handicap Hurdle
DTSTART:20130317T153000
LOCATION:England
SUMMARY:Horse Racing:Pamela Nicholson Bell Birthday Novices\' Handicap Hurd
 le
END:VEVENT
END:VCALENDAR
