BEGIN:VCALENDAR
VERSION:2.0
PRODID:-//horsealert.local//NONSGML kigkonsult.se iCalcreator 2.10.5//
CALSCALE:GREGORIAN
X-WR-TIMEZONE:Europe/Dublin
BEGIN:VTIMEZONE
TZID:Etc/GMT-1
BEGIN:STANDARD
DTSTART:20010101T000000
TZOFFSETFROM:+0100
TZOFFSETTO:+0100
TZNAME:GMT +01:00
END:STANDARD
END:VTIMEZONE
BEGIN:VEVENT
UID:20260425T213720CEST-22729fDdbU@horsealert.local
DTSTAMP:20260425T190420Z
CATEGORIES:Horse Alerts
DESCRIPTION:Biggest Free Bets With bookmakers.co.uk Handicap \(Div 1\)
DTSTART:20130316T195000
LOCATION:England
SUMMARY:Horse Racing:Biggest Free Bets With bookmakers.co.uk Handicap \(Div
  1\)
END:VEVENT
END:VCALENDAR
