BEGIN:VCALENDAR
VERSION:2.0
PRODID:-//horsealert.local//NONSGML kigkonsult.se iCalcreator 2.10.5//
CALSCALE:GREGORIAN
X-WR-TIMEZONE:Europe/Dublin
BEGIN:VTIMEZONE
TZID:Etc/GMT-1
BEGIN:STANDARD
DTSTART:20010101T000000
TZOFFSETFROM:+0100
TZOFFSETTO:+0100
TZNAME:GMT +01:00
END:STANDARD
END:VTIMEZONE
BEGIN:VEVENT
UID:20260425T232304CEST-9681aFRaeS@horsealert.local
DTSTAMP:20260425T210404Z
CATEGORIES:Horse Alerts
DESCRIPTION:Jewson Novices\' Chase \(Registered As The Golden Miller Novice
 s\' Chase\) \(Grade 2\)
DTSTART:20130314T133000
LOCATION:England
SUMMARY:Horse Racing:Jewson Novices\' Chase \(Registered As The Golden Mill
 er Novices\' Chase\) \(Grade 2\)
END:VEVENT
END:VCALENDAR
