BEGIN:VCALENDAR
VERSION:2.0
PRODID:-//horsealert.local//NONSGML kigkonsult.se iCalcreator 2.10.5//
CALSCALE:GREGORIAN
X-WR-TIMEZONE:Europe/Dublin
BEGIN:VTIMEZONE
TZID:Etc/GMT-1
BEGIN:STANDARD
DTSTART:20010101T000000
TZOFFSETFROM:+0100
TZOFFSETTO:+0100
TZNAME:GMT +01:00
END:STANDARD
END:VTIMEZONE
BEGIN:VEVENT
UID:20260425T232316CEST-5391xBZeuU@horsealert.local
DTSTAMP:20260425T210416Z
CATEGORIES:Horse Alerts
DESCRIPTION:John Oaksey National Hunt Chase \(Amateur Riders\' Novices\' Ch
 ase\)
DTSTART:20130313T133000
LOCATION:England
SUMMARY:Horse Racing:John Oaksey National Hunt Chase \(Amateur Riders\' Nov
 ices\' Chase\)
END:VEVENT
END:VCALENDAR
