BEGIN:VCALENDAR
VERSION:2.0
PRODID:-//horsealert.local//NONSGML kigkonsult.se iCalcreator 2.10.5//
CALSCALE:GREGORIAN
X-WR-TIMEZONE:Europe/Dublin
BEGIN:VTIMEZONE
TZID:Etc/GMT-1
BEGIN:STANDARD
DTSTART:20010101T000000
TZOFFSETFROM:+0100
TZOFFSETTO:+0100
TZNAME:GMT +01:00
END:STANDARD
END:VTIMEZONE
BEGIN:VEVENT
UID:20260425T232235CEST-36119rk87t@horsealert.local
DTSTAMP:20260425T210435Z
CATEGORIES:Horse Alerts
DESCRIPTION:Bookmakers On Your Mobile At bookmakers.co.uk \'National Hunt\'
  Novices\' Handicap Hurdle
DTSTART:20130312T145500
LOCATION:England
SUMMARY:Horse Racing:Bookmakers On Your Mobile At bookmakers.co.uk \'Nation
 al Hunt\' Novices\' Handicap Hurdle
END:VEVENT
END:VCALENDAR
