BEGIN:VCALENDAR
VERSION:2.0
PRODID:-//horsealert.local//NONSGML kigkonsult.se iCalcreator 2.10.5//
CALSCALE:GREGORIAN
X-WR-TIMEZONE:Europe/Dublin
BEGIN:VTIMEZONE
TZID:Etc/GMT-1
BEGIN:STANDARD
DTSTART:20010101T000000
TZOFFSETFROM:+0100
TZOFFSETTO:+0100
TZNAME:GMT +01:00
END:STANDARD
END:VTIMEZONE
BEGIN:VEVENT
UID:20260425T213729CEST-32946cF60p@horsealert.local
DTSTAMP:20260425T190429Z
CATEGORIES:Horse Alerts
DESCRIPTION:Cheltenham Hurdle Free Bets With bookmakers.co.uk Novices\' Cha
 se
DTSTART:20130312T142000
LOCATION:England
SUMMARY:Horse Racing:Cheltenham Hurdle Free Bets With bookmakers.co.uk Novi
 ces\' Chase
END:VEVENT
END:VCALENDAR
