BEGIN:VCALENDAR
VERSION:2.0
PRODID:-//horsealert.local//NONSGML kigkonsult.se iCalcreator 2.10.5//
CALSCALE:GREGORIAN
X-WR-TIMEZONE:Europe/Dublin
BEGIN:VTIMEZONE
TZID:Etc/GMT-1
BEGIN:STANDARD
DTSTART:20010101T000000
TZOFFSETFROM:+0100
TZOFFSETTO:+0100
TZNAME:GMT +01:00
END:STANDARD
END:VTIMEZONE
BEGIN:VEVENT
UID:20260425T213727CEST-2396V6tZ5l@horsealert.local
DTSTAMP:20260425T190427Z
CATEGORIES:Horse Alerts
DESCRIPTION:Compare Trusted Bookmakers With bookmakers.co.uk Apprentice Han
 dicap
DTSTART:20130312T174000
LOCATION:England
SUMMARY:Horse Racing:Compare Trusted Bookmakers With bookmakers.co.uk Appre
 ntice Handicap
END:VEVENT
END:VCALENDAR
