BEGIN:VCALENDAR
VERSION:2.0
PRODID:-//horsealert.local//NONSGML kigkonsult.se iCalcreator 2.10.5//
CALSCALE:GREGORIAN
X-WR-TIMEZONE:Europe/Dublin
BEGIN:VTIMEZONE
TZID:Etc/GMT-1
BEGIN:STANDARD
DTSTART:20010101T000000
TZOFFSETFROM:+0100
TZOFFSETTO:+0100
TZNAME:GMT +01:00
END:STANDARD
END:VTIMEZONE
BEGIN:VEVENT
UID:20260425T213850CEST-5835JouhGv@horsealert.local
DTSTAMP:20260425T190450Z
CATEGORIES:Horse Alerts
DESCRIPTION:Star Sports Cheltenham Preview At Plumpton \'National Hunt\' No
 vices\' Hurdle
DTSTART:20130311T141000
LOCATION:England
SUMMARY:Horse Racing:Star Sports Cheltenham Preview At Plumpton \'National 
 Hunt\' Novices\' Hurdle
END:VEVENT
END:VCALENDAR
