BEGIN:VCALENDAR
VERSION:2.0
PRODID:-//horsealert.local//NONSGML kigkonsult.se iCalcreator 2.10.5//
CALSCALE:GREGORIAN
X-WR-TIMEZONE:Europe/Dublin
BEGIN:VTIMEZONE
TZID:Etc/GMT-1
BEGIN:STANDARD
DTSTART:20010101T000000
TZOFFSETFROM:+0100
TZOFFSETTO:+0100
TZNAME:GMT +01:00
END:STANDARD
END:VTIMEZONE
BEGIN:VEVENT
UID:20260425T232311CEST-8942Kk9GBL@horsealert.local
DTSTAMP:20260425T210411Z
CATEGORIES:Horse Alerts
DESCRIPTION:CGA Foxhunter Trial \(Hunters\' Chase\) \(For The Air Wedding C
 hallenge Trophy\)
DTSTART:20130310T163000
LOCATION:England
SUMMARY:Horse Racing:CGA Foxhunter Trial \(Hunters\' Chase\) \(For The Air 
 Wedding Challenge Trophy\)
END:VEVENT
END:VCALENDAR
