BEGIN:VCALENDAR
VERSION:2.0
PRODID:-//horsealert.local//NONSGML kigkonsult.se iCalcreator 2.10.5//
CALSCALE:GREGORIAN
X-WR-TIMEZONE:Europe/Dublin
BEGIN:VTIMEZONE
TZID:Etc/GMT-1
BEGIN:STANDARD
DTSTART:20010101T000000
TZOFFSETFROM:+0100
TZOFFSETTO:+0100
TZNAME:GMT +01:00
END:STANDARD
END:VTIMEZONE
BEGIN:VEVENT
UID:20260425T213736CEST-4743HGPK54@horsealert.local
DTSTAMP:20260425T190436Z
CATEGORIES:Horse Alerts
DESCRIPTION:Harry Hall \'Happy 80th Birthday\' Handicap Chase \(Jockey Club
  Grassroots Jumps Series Qualifier\)
DTSTART:20130310T152000
LOCATION:England
SUMMARY:Horse Racing:Harry Hall \'Happy 80th Birthday\' Handicap Chase \(Jo
 ckey Club Grassroots Jumps Series Qualifier\)
END:VEVENT
END:VCALENDAR
