BEGIN:VCALENDAR
VERSION:2.0
PRODID:-//horsealert.local//NONSGML kigkonsult.se iCalcreator 2.10.5//
CALSCALE:GREGORIAN
X-WR-TIMEZONE:Europe/Dublin
BEGIN:VTIMEZONE
TZID:Etc/GMT-1
BEGIN:STANDARD
DTSTART:20010101T000000
TZOFFSETFROM:+0100
TZOFFSETTO:+0100
TZNAME:GMT +01:00
END:STANDARD
END:VTIMEZONE
BEGIN:VEVENT
UID:20260425T213730CEST-6985i3P5Kl@horsealert.local
DTSTAMP:20260425T190430Z
CATEGORIES:Horse Alerts
DESCRIPTION:European Breeders\' Fund paddypower.com \'National Hunt\' Novic
 es\' Handicap Hurdle Final \(Grade 3\)
DTSTART:20130309T140500
LOCATION:England
SUMMARY:Horse Racing:European Breeders\' Fund paddypower.com \'National Hun
 t\' Novices\' Handicap Hurdle Final \(Grade 3\)
END:VEVENT
END:VCALENDAR
