BEGIN:VCALENDAR
VERSION:2.0
PRODID:-//horsealert.local//NONSGML kigkonsult.se iCalcreator 2.10.5//
CALSCALE:GREGORIAN
X-WR-TIMEZONE:Europe/Dublin
BEGIN:VTIMEZONE
TZID:Etc/GMT-1
BEGIN:STANDARD
DTSTART:20010101T000000
TZOFFSETFROM:+0100
TZOFFSETTO:+0100
TZNAME:GMT +01:00
END:STANDARD
END:VTIMEZONE
BEGIN:VEVENT
UID:20260425T213720CEST-9601kL2a1U@horsealert.local
DTSTAMP:20260425T190420Z
CATEGORIES:Horse Alerts
DESCRIPTION:Support Kilkenny G.A.A. Raceday On 23rd March At Gowran Park Be
 ginners Chase
DTSTART:20130309T163000
LOCATION:Eire
SUMMARY:Horse Racing:Support Kilkenny G.A.A. Raceday On 23rd March At Gowra
 n Park Beginners Chase
END:VEVENT
END:VCALENDAR
