BEGIN:VCALENDAR
VERSION:2.0
PRODID:-//horsealert.local//NONSGML kigkonsult.se iCalcreator 2.10.5//
CALSCALE:GREGORIAN
X-WR-TIMEZONE:Europe/Dublin
BEGIN:VTIMEZONE
TZID:Etc/GMT-1
BEGIN:STANDARD
DTSTART:20010101T000000
TZOFFSETFROM:+0100
TZOFFSETTO:+0100
TZNAME:GMT +01:00
END:STANDARD
END:VTIMEZONE
BEGIN:VEVENT
UID:20260425T213837CEST-4691VVW90G@horsealert.local
DTSTAMP:20260425T190437Z
CATEGORIES:Horse Alerts
DESCRIPTION:Book For The Coral Scottish Grand National Handicap Hurdle \(Fo
 r The Ayrshire Yeomanry Cup\)
DTSTART:20130309T160000
LOCATION:Scotland
SUMMARY:Horse Racing:Book For The Coral Scottish Grand National Handicap Hu
 rdle \(For The Ayrshire Yeomanry Cup\)
END:VEVENT
END:VCALENDAR
