BEGIN:VCALENDAR
VERSION:2.0
PRODID:-//horsealert.local//NONSGML kigkonsult.se iCalcreator 2.10.5//
CALSCALE:GREGORIAN
X-WR-TIMEZONE:Europe/Dublin
BEGIN:VTIMEZONE
TZID:Etc/GMT-1
BEGIN:STANDARD
DTSTART:20010101T000000
TZOFFSETFROM:+0100
TZOFFSETTO:+0100
TZNAME:GMT +01:00
END:STANDARD
END:VTIMEZONE
BEGIN:VEVENT
UID:20260425T213831CEST-2275NClgJI@horsealert.local
DTSTAMP:20260425T190431Z
CATEGORIES:Horse Alerts
DESCRIPTION:Abbott Risk Consulting Hunterston Handicap Chase \(For The Hugh
  Barclay Challenge Trophy\)
DTSTART:20130309T152500
LOCATION:Scotland
SUMMARY:Horse Racing:Abbott Risk Consulting Hunterston Handicap Chase \(For
  The Hugh Barclay Challenge Trophy\)
END:VEVENT
END:VCALENDAR
