BEGIN:VCALENDAR
VERSION:2.0
PRODID:-//horsealert.local//NONSGML kigkonsult.se iCalcreator 2.10.5//
CALSCALE:GREGORIAN
X-WR-TIMEZONE:Europe/Dublin
BEGIN:VTIMEZONE
TZID:Etc/GMT-1
BEGIN:STANDARD
DTSTART:20010101T000000
TZOFFSETFROM:+0100
TZOFFSETTO:+0100
TZNAME:GMT +01:00
END:STANDARD
END:VTIMEZONE
BEGIN:VEVENT
UID:20260425T232247CEST-1154r7agkA@horsealert.local
DTSTAMP:20260425T210447Z
CATEGORIES:Horse Alerts
DESCRIPTION:Queen Elizabeth The Queen Mother Memorial Hunters\' Chase \(Mil
 itary Amateur Riders\)
DTSTART:20130308T163500
LOCATION:England
SUMMARY:Horse Racing:Queen Elizabeth The Queen Mother Memorial Hunters\' Ch
 ase \(Military Amateur Riders\)
END:VEVENT
END:VCALENDAR
