BEGIN:VCALENDAR
VERSION:2.0
PRODID:-//horsealert.local//NONSGML kigkonsult.se iCalcreator 2.10.5//
CALSCALE:GREGORIAN
X-WR-TIMEZONE:Europe/Dublin
BEGIN:VTIMEZONE
TZID:Etc/GMT-1
BEGIN:STANDARD
DTSTART:20010101T000000
TZOFFSETFROM:+0100
TZOFFSETTO:+0100
TZNAME:GMT +01:00
END:STANDARD
END:VTIMEZONE
BEGIN:VEVENT
UID:20260425T232254CEST-6786D8BbMC@horsealert.local
DTSTAMP:20260425T210454Z
CATEGORIES:Horse Alerts
DESCRIPTION:Annington Amateur Riders\' Handicap Hurdle \(Military Amateur R
 iders\)
DTSTART:20130308T142000
LOCATION:England
SUMMARY:Horse Racing:Annington Amateur Riders\' Handicap Hurdle \(Military 
 Amateur Riders\)
END:VEVENT
END:VCALENDAR
