BEGIN:VCALENDAR
VERSION:2.0
PRODID:-//horsealert.local//NONSGML kigkonsult.se iCalcreator 2.10.5//
CALSCALE:GREGORIAN
X-WR-TIMEZONE:Europe/Dublin
BEGIN:VTIMEZONE
TZID:Etc/GMT-1
BEGIN:STANDARD
DTSTART:20010101T000000
TZOFFSETFROM:+0100
TZOFFSETTO:+0100
TZNAME:GMT +01:00
END:STANDARD
END:VTIMEZONE
BEGIN:VEVENT
UID:20260425T214256CEST-0569BCxI2N@horsealert.local
DTSTAMP:20260425T190456Z
CATEGORIES:Horse Alerts
DESCRIPTION:Highfield Wines Handicap Hurdle \(For The James Barclay Challen
 ge Trophy\)
DTSTART:20130308T162000
LOCATION:Scotland
SUMMARY:Horse Racing:Highfield Wines Handicap Hurdle \(For The James Barcla
 y Challenge Trophy\)
END:VEVENT
END:VCALENDAR
