BEGIN:VCALENDAR
VERSION:2.0
PRODID:-//horsealert.local//NONSGML kigkonsult.se iCalcreator 2.10.5//
CALSCALE:GREGORIAN
X-WR-TIMEZONE:Europe/Dublin
BEGIN:VTIMEZONE
TZID:Etc/GMT-1
BEGIN:STANDARD
DTSTART:20010101T000000
TZOFFSETFROM:+0100
TZOFFSETTO:+0100
TZNAME:GMT +01:00
END:STANDARD
END:VTIMEZONE
BEGIN:VEVENT
UID:20260425T214259CEST-8664IWGUtB@horsealert.local
DTSTAMP:20260425T190459Z
CATEGORIES:Horse Alerts
DESCRIPTION:\'Happy Birthday\' Angela Bray Standard Open NH Flat Race
DTSTART:20130306T171000
LOCATION:England
SUMMARY:Horse Racing:\'Happy Birthday\' Angela Bray Standard Open NH Flat R
 ace
END:VEVENT
END:VCALENDAR
