BEGIN:VCALENDAR
VERSION:2.0
PRODID:-//horsealert.local//NONSGML kigkonsult.se iCalcreator 2.10.5//
CALSCALE:GREGORIAN
X-WR-TIMEZONE:Europe/Dublin
BEGIN:VTIMEZONE
TZID:Etc/GMT-1
BEGIN:STANDARD
DTSTART:20010101T000000
TZOFFSETFROM:+0100
TZOFFSETTO:+0100
TZNAME:GMT +01:00
END:STANDARD
END:VTIMEZONE
BEGIN:VEVENT
UID:20260425T214318CEST-40895U3VDx@horsealert.local
DTSTAMP:20260425T190418Z
CATEGORIES:Horse Alerts
DESCRIPTION:Spa Breaks At Lingfield Park Resort Handicap
DTSTART:20130306T150000
LOCATION:England
SUMMARY:Horse Racing:Spa Breaks At Lingfield Park Resort Handicap
END:VEVENT
END:VCALENDAR
