BEGIN:VCALENDAR
VERSION:2.0
PRODID:-//horsealert.local//NONSGML kigkonsult.se iCalcreator 2.10.5//
CALSCALE:GREGORIAN
X-WR-TIMEZONE:Europe/Dublin
BEGIN:VTIMEZONE
TZID:Etc/GMT-1
BEGIN:STANDARD
DTSTART:20010101T000000
TZOFFSETFROM:+0100
TZOFFSETTO:+0100
TZNAME:GMT +01:00
END:STANDARD
END:VTIMEZONE
BEGIN:VEVENT
UID:20260425T214257CEST-67480SpXAt@horsealert.local
DTSTAMP:20260425T190457Z
CATEGORIES:Horse Alerts
DESCRIPTION:Goffs Ready-To-Run Sale March 27th Handicap \(London Mile Quali
 fier\)
DTSTART:20130306T200000
LOCATION:England
SUMMARY:Horse Racing:Goffs Ready-To-Run Sale March 27th Handicap \(London M
 ile Qualifier\)
END:VEVENT
END:VCALENDAR
