BEGIN:VCALENDAR
VERSION:2.0
PRODID:-//horsealert.local//NONSGML kigkonsult.se iCalcreator 2.10.5//
CALSCALE:GREGORIAN
X-WR-TIMEZONE:Europe/Dublin
BEGIN:VTIMEZONE
TZID:Etc/GMT-1
BEGIN:STANDARD
DTSTART:20010101T000000
TZOFFSETFROM:+0100
TZOFFSETTO:+0100
TZNAME:GMT +01:00
END:STANDARD
END:VTIMEZONE
BEGIN:VEVENT
UID:20260425T232103CEST-0458VaNlbU@horsealert.local
DTSTAMP:20260425T210403Z
CATEGORIES:Horse Alerts
DESCRIPTION:Amateur Jockeys\' Association Amateur Riders\' Handicap Hurdle
DTSTART:20130304T145000
LOCATION:Wales
SUMMARY:Horse Racing:Amateur Jockeys\' Association Amateur Riders\' Handica
 p Hurdle
END:VEVENT
END:VCALENDAR
