BEGIN:VCALENDAR
VERSION:2.0
PRODID:-//horsealert.local//NONSGML kigkonsult.se iCalcreator 2.10.5//
CALSCALE:GREGORIAN
X-WR-TIMEZONE:Europe/Dublin
BEGIN:VTIMEZONE
TZID:Etc/GMT-1
BEGIN:STANDARD
DTSTART:20010101T000000
TZOFFSETFROM:+0100
TZOFFSETTO:+0100
TZNAME:GMT +01:00
END:STANDARD
END:VTIMEZONE
BEGIN:VEVENT
UID:20260425T232326CEST-0096K62B8v@horsealert.local
DTSTAMP:20260425T210426Z
CATEGORIES:Horse Alerts
DESCRIPTION:Karcimont - Prix Du Cheval De L\'annee 2012 Courses & Elev Hand
 icap Chase
DTSTART:20130303T140800
LOCATION:France
SUMMARY:Horse Racing:Karcimont - Prix Du Cheval De L\'annee 2012 Courses & 
 Elev Handicap Chase
END:VEVENT
END:VCALENDAR
