BEGIN:VCALENDAR
VERSION:2.0
PRODID:-//horsealert.local//NONSGML kigkonsult.se iCalcreator 2.10.5//
CALSCALE:GREGORIAN
X-WR-TIMEZONE:Europe/Dublin
BEGIN:VTIMEZONE
TZID:Etc/GMT-1
BEGIN:STANDARD
DTSTART:20010101T000000
TZOFFSETFROM:+0100
TZOFFSETTO:+0100
TZNAME:GMT +01:00
END:STANDARD
END:VTIMEZONE
BEGIN:VEVENT
UID:20260425T232326CEST-91220I2nv7@horsealert.local
DTSTAMP:20260425T210426Z
CATEGORIES:Horse Alerts
DESCRIPTION:John Wade Earthworks And Demolition Novices\' Hurdle \(Qualifie
 r\)
DTSTART:20130303T142000
LOCATION:England
SUMMARY:Horse Racing:John Wade Earthworks And Demolition Novices\' Hurdle \
 (Qualifier\)
END:VEVENT
END:VCALENDAR
