BEGIN:VCALENDAR
VERSION:2.0
PRODID:-//horsealert.local//NONSGML kigkonsult.se iCalcreator 2.10.5//
CALSCALE:GREGORIAN
X-WR-TIMEZONE:Europe/Dublin
BEGIN:VTIMEZONE
TZID:Etc/GMT-1
BEGIN:STANDARD
DTSTART:20010101T000000
TZOFFSETFROM:+0100
TZOFFSETTO:+0100
TZNAME:GMT +01:00
END:STANDARD
END:VTIMEZONE
BEGIN:VEVENT
UID:20260425T232244CEST-3835LuGg3J@horsealert.local
DTSTAMP:20260425T210444Z
CATEGORIES:Horse Alerts
DESCRIPTION:Weatherbys Supports The Prince\'s Trust Handicap Chase \(Sunday
  5k Bonus Race\)
DTSTART:20130303T150000
LOCATION:England
SUMMARY:Horse Racing:Weatherbys Supports The Prince\'s Trust Handicap Chase
  \(Sunday 5k Bonus Race\)
END:VEVENT
END:VCALENDAR
