BEGIN:VCALENDAR
VERSION:2.0
PRODID:-//horsealert.local//NONSGML kigkonsult.se iCalcreator 2.10.5//
CALSCALE:GREGORIAN
X-WR-TIMEZONE:Europe/Dublin
BEGIN:VTIMEZONE
TZID:Etc/GMT-1
BEGIN:STANDARD
DTSTART:20010101T000000
TZOFFSETFROM:+0100
TZOFFSETTO:+0100
TZNAME:GMT +01:00
END:STANDARD
END:VTIMEZONE
BEGIN:VEVENT
UID:20260425T232314CEST-3533XUTwdw@horsealert.local
DTSTAMP:20260425T210414Z
CATEGORIES:Horse Alerts
DESCRIPTION:RR Elite Mares\' Standard Open NH Flat Race \(In Aid Of West Be
 rkshire Mencap\)
DTSTART:20130301T171000
LOCATION:England
SUMMARY:Horse Racing:RR Elite Mares\' Standard Open NH Flat Race \(In Aid O
 f West Berkshire Mencap\)
END:VEVENT
END:VCALENDAR
