BEGIN:VCALENDAR
VERSION:2.0
PRODID:-//horsealert.local//NONSGML kigkonsult.se iCalcreator 2.10.5//
CALSCALE:GREGORIAN
X-WR-TIMEZONE:Europe/Dublin
BEGIN:VTIMEZONE
TZID:Etc/GMT-1
BEGIN:STANDARD
DTSTART:20010101T000000
TZOFFSETFROM:+0100
TZOFFSETTO:+0100
TZNAME:GMT +01:00
END:STANDARD
END:VTIMEZONE
BEGIN:VEVENT
UID:20260425T225646CEST-9439oC4B88@horsealert.local
DTSTAMP:20260425T200446Z
CATEGORIES:Horse Alerts
DESCRIPTION:Alpha Motorability Wheelchair Passenger Transport Novices\' Hur
 dle
DTSTART:20130228T144000
LOCATION:England
SUMMARY:Horse Racing:Alpha Motorability Wheelchair Passenger Transport Novi
 ces\' Hurdle
END:VEVENT
END:VCALENDAR
