BEGIN:VCALENDAR
VERSION:2.0
PRODID:-//horsealert.local//NONSGML kigkonsult.se iCalcreator 2.10.5//
CALSCALE:GREGORIAN
X-WR-TIMEZONE:Europe/Dublin
BEGIN:VTIMEZONE
TZID:Etc/GMT-1
BEGIN:STANDARD
DTSTART:20010101T000000
TZOFFSETFROM:+0100
TZOFFSETTO:+0100
TZNAME:GMT +01:00
END:STANDARD
END:VTIMEZONE
BEGIN:VEVENT
UID:20260426T004359CEST-3043ahu6ro@horsealert.local
DTSTAMP:20260425T220459Z
CATEGORIES:Horse Alerts
DESCRIPTION:Kempton For Weddings Fillies\' Handicap
DTSTART:20130227T210000
LOCATION:England
SUMMARY:Horse Racing:Kempton For Weddings Fillies\' Handicap
END:VEVENT
END:VCALENDAR
