BEGIN:VCALENDAR
VERSION:2.0
PRODID:-//horsealert.local//NONSGML kigkonsult.se iCalcreator 2.10.5//
CALSCALE:GREGORIAN
X-WR-TIMEZONE:Europe/Dublin
BEGIN:VTIMEZONE
TZID:Etc/GMT-1
BEGIN:STANDARD
DTSTART:20010101T000000
TZOFFSETFROM:+0100
TZOFFSETTO:+0100
TZNAME:GMT +01:00
END:STANDARD
END:VTIMEZONE
BEGIN:VEVENT
UID:20260425T225641CEST-9932nIuAhC@horsealert.local
DTSTAMP:20260425T200441Z
CATEGORIES:Horse Alerts
DESCRIPTION:attheraces.com Exclusive Barry Geraghty Blog Maiden Hurdle
DTSTART:20130225T141000
LOCATION:England
SUMMARY:Horse Racing:attheraces.com Exclusive Barry Geraghty Blog Maiden Hu
 rdle
END:VEVENT
END:VCALENDAR
