BEGIN:VCALENDAR
VERSION:2.0
PRODID:-//horsealert.local//NONSGML kigkonsult.se iCalcreator 2.10.5//
CALSCALE:GREGORIAN
X-WR-TIMEZONE:Europe/Dublin
BEGIN:VTIMEZONE
TZID:Etc/GMT-1
BEGIN:STANDARD
DTSTART:20010101T000000
TZOFFSETFROM:+0100
TZOFFSETTO:+0100
TZNAME:GMT +01:00
END:STANDARD
END:VTIMEZONE
BEGIN:VEVENT
UID:20260426T004401CEST-9489NeLc1v@horsealert.local
DTSTAMP:20260425T220401Z
CATEGORIES:Horse Alerts
DESCRIPTION:BetVictor Cheltenham Festival Antepost Pioneers Classified Clai
 ming Stakes
DTSTART:20130225T155000
LOCATION:England
SUMMARY:Horse Racing:BetVictor Cheltenham Festival Antepost Pioneers Classi
 fied Claiming Stakes
END:VEVENT
END:VCALENDAR
