BEGIN:VCALENDAR
VERSION:2.0
PRODID:-//horsealert.local//NONSGML kigkonsult.se iCalcreator 2.10.5//
CALSCALE:GREGORIAN
X-WR-TIMEZONE:Europe/Dublin
BEGIN:VTIMEZONE
TZID:Etc/GMT-1
BEGIN:STANDARD
DTSTART:20010101T000000
TZOFFSETFROM:+0100
TZOFFSETTO:+0100
TZNAME:GMT +01:00
END:STANDARD
END:VTIMEZONE
BEGIN:VEVENT
UID:20260425T225610CEST-7576lhLCRN@horsealert.local
DTSTAMP:20260425T200410Z
CATEGORIES:Horse Alerts
DESCRIPTION:Book For The Festival At cheltenham.co.uk \'Hands And Heels\' H
 andicap Hurdle \(Cond/Amat\)
DTSTART:20130222T144000
LOCATION:England
SUMMARY:Horse Racing:Book For The Festival At cheltenham.co.uk \'Hands And 
 Heels\' Handicap Hurdle \(Cond/Amat\)
END:VEVENT
END:VCALENDAR
