BEGIN:VCALENDAR
VERSION:2.0
PRODID:-//horsealert.local//NONSGML kigkonsult.se iCalcreator 2.10.5//
CALSCALE:GREGORIAN
X-WR-TIMEZONE:Europe/Dublin
BEGIN:VTIMEZONE
TZID:Etc/GMT-1
BEGIN:STANDARD
DTSTART:20010101T000000
TZOFFSETFROM:+0100
TZOFFSETTO:+0100
TZNAME:GMT +01:00
END:STANDARD
END:VTIMEZONE
BEGIN:VEVENT
UID:20260425T225643CEST-8070CafWtO@horsealert.local
DTSTAMP:20260425T200443Z
CATEGORIES:Horse Alerts
DESCRIPTION:Eric\'s Charm Handicap Chase \(Jockey Club Grassroots Jumps Ser
 ies Qualifier\)
DTSTART:20130222T163000
LOCATION:England
SUMMARY:Horse Racing:Eric\'s Charm Handicap Chase \(Jockey Club Grassroots 
 Jumps Series Qualifier\)
END:VEVENT
END:VCALENDAR
