BEGIN:VCALENDAR
VERSION:2.0
PRODID:-//horsealert.local//NONSGML kigkonsult.se iCalcreator 2.10.5//
CALSCALE:GREGORIAN
X-WR-TIMEZONE:Europe/Dublin
BEGIN:VTIMEZONE
TZID:Etc/GMT-1
BEGIN:STANDARD
DTSTART:20010101T000000
TZOFFSETFROM:+0100
TZOFFSETTO:+0100
TZNAME:GMT +01:00
END:STANDARD
END:VTIMEZONE
BEGIN:VEVENT
UID:20260426T004243CEST-8573gdmvzv@horsealert.local
DTSTAMP:20260425T220443Z
CATEGORIES:Horse Alerts
DESCRIPTION:David Lindon & Co Handicap Hurdle \(Jockey Club Grassroots Jump
 s Series Qualifier\)
DTSTART:20130222T160000
LOCATION:England
SUMMARY:Horse Racing:David Lindon & Co Handicap Hurdle \(Jockey Club Grassr
 oots Jumps Series Qualifier\)
END:VEVENT
END:VCALENDAR
