BEGIN:VCALENDAR
VERSION:2.0
PRODID:-//horsealert.local//NONSGML kigkonsult.se iCalcreator 2.10.5//
CALSCALE:GREGORIAN
X-WR-TIMEZONE:Europe/Dublin
BEGIN:VTIMEZONE
TZID:Etc/GMT-1
BEGIN:STANDARD
DTSTART:20010101T000000
TZOFFSETFROM:+0100
TZOFFSETTO:+0100
TZNAME:GMT +01:00
END:STANDARD
END:VTIMEZONE
BEGIN:VEVENT
UID:20260425T225612CEST-0312WaWUPT@horsealert.local
DTSTAMP:20260425T200412Z
CATEGORIES:Horse Alerts
DESCRIPTION:February Conditional Jockeys\' Handicap Hurdle
DTSTART:20130222T134500
LOCATION:England
SUMMARY:Horse Racing:February Conditional Jockeys\' Handicap Hurdle
END:VEVENT
END:VCALENDAR
