BEGIN:VCALENDAR
VERSION:2.0
PRODID:-//horsealert.local//NONSGML kigkonsult.se iCalcreator 2.10.5//
CALSCALE:GREGORIAN
X-WR-TIMEZONE:Europe/Dublin
BEGIN:VTIMEZONE
TZID:Etc/GMT-1
BEGIN:STANDARD
DTSTART:20010101T000000
TZOFFSETFROM:+0100
TZOFFSETTO:+0100
TZNAME:GMT +01:00
END:STANDARD
END:VTIMEZONE
BEGIN:VEVENT
UID:20260426T004251CEST-6911ic1mic@horsealert.local
DTSTAMP:20260425T220451Z
CATEGORIES:Horse Alerts
DESCRIPTION:Follow At Toptipster36 And Join steelstips.com Handicap Chase
DTSTART:20130221T171000
LOCATION:England
SUMMARY:Horse Racing:Follow At Toptipster36 And Join steelstips.com Handica
 p Chase
END:VEVENT
END:VCALENDAR
