BEGIN:VCALENDAR
VERSION:2.0
PRODID:-//horsealert.local//NONSGML kigkonsult.se iCalcreator 2.10.5//
CALSCALE:GREGORIAN
X-WR-TIMEZONE:Europe/Dublin
BEGIN:VTIMEZONE
TZID:Etc/GMT-1
BEGIN:STANDARD
DTSTART:20010101T000000
TZOFFSETFROM:+0100
TZOFFSETTO:+0100
TZNAME:GMT +01:00
END:STANDARD
END:VTIMEZONE
BEGIN:VEVENT
UID:20260425T225557CEST-7922Hp6hNa@horsealert.local
DTSTAMP:20260425T200457Z
CATEGORIES:Horse Alerts
DESCRIPTION:Collins Seafoods Novices\' Hurdle \(John Wade And Collins Seafo
 ods Ltd Hurdle Series Qualifier\)
DTSTART:20130221T141000
LOCATION:England
SUMMARY:Horse Racing:Collins Seafoods Novices\' Hurdle \(John Wade And Coll
 ins Seafoods Ltd Hurdle Series Qualifier\)
END:VEVENT
END:VCALENDAR
