BEGIN:VCALENDAR
VERSION:2.0
PRODID:-//horsealert.local//NONSGML kigkonsult.se iCalcreator 2.10.5//
CALSCALE:GREGORIAN
X-WR-TIMEZONE:Europe/Dublin
BEGIN:VTIMEZONE
TZID:Etc/GMT-1
BEGIN:STANDARD
DTSTART:20010101T000000
TZOFFSETFROM:+0100
TZOFFSETTO:+0100
TZNAME:GMT +01:00
END:STANDARD
END:VTIMEZONE
BEGIN:VEVENT
UID:20260426T004244CEST-7732UaMjMp@horsealert.local
DTSTAMP:20260425T220444Z
CATEGORIES:Horse Alerts
DESCRIPTION:SIG Insulation E.B.F. \'National Hunt\' Novices\' Hurdle \(Qual
 ifier\)
DTSTART:20130220T152500
LOCATION:England
SUMMARY:Horse Racing:SIG Insulation E.B.F. \'National Hunt\' Novices\' Hurd
 le \(Qualifier\)
END:VEVENT
END:VCALENDAR
