BEGIN:VCALENDAR
VERSION:2.0
PRODID:-//horsealert.local//NONSGML kigkonsult.se iCalcreator 2.10.5//
CALSCALE:GREGORIAN
X-WR-TIMEZONE:Europe/Dublin
BEGIN:VTIMEZONE
TZID:Etc/GMT-1
BEGIN:STANDARD
DTSTART:20010101T000000
TZOFFSETFROM:+0100
TZOFFSETTO:+0100
TZNAME:GMT +01:00
END:STANDARD
END:VTIMEZONE
BEGIN:VEVENT
UID:20260426T004243CEST-2208PmvE2i@horsealert.local
DTSTAMP:20260425T220443Z
CATEGORIES:Horse Alerts
DESCRIPTION:lingfieldpark.co.uk Handicap
DTSTART:20130220T160500
LOCATION:England
SUMMARY:Horse Racing:lingfieldpark.co.uk Handicap
END:VEVENT
END:VCALENDAR
