BEGIN:VCALENDAR
VERSION:2.0
PRODID:-//horsealert.local//NONSGML kigkonsult.se iCalcreator 2.10.5//
CALSCALE:GREGORIAN
X-WR-TIMEZONE:Europe/Dublin
BEGIN:VTIMEZONE
TZID:Etc/GMT-1
BEGIN:STANDARD
DTSTART:20010101T000000
TZOFFSETFROM:+0100
TZOFFSETTO:+0100
TZNAME:GMT +01:00
END:STANDARD
END:VTIMEZONE
BEGIN:VEVENT
UID:20260426T004300CEST-7946rULUf7@horsealert.local
DTSTAMP:20260425T220400Z
CATEGORIES:Horse Alerts
DESCRIPTION:Bookmaker Reviews At bookmakers.co.uk Amateur Riders\' Handicap
  \(Div 1\)
DTSTART:20130218T141000
LOCATION:England
SUMMARY:Horse Racing:Bookmaker Reviews At bookmakers.co.uk Amateur Riders\'
  Handicap \(Div 1\)
END:VEVENT
END:VCALENDAR
