BEGIN:VCALENDAR
VERSION:2.0
PRODID:-//horsealert.local//NONSGML kigkonsult.se iCalcreator 2.10.5//
CALSCALE:GREGORIAN
X-WR-TIMEZONE:Europe/Dublin
BEGIN:VTIMEZONE
TZID:Etc/GMT-1
BEGIN:STANDARD
DTSTART:20010101T000000
TZOFFSETFROM:+0100
TZOFFSETTO:+0100
TZNAME:GMT +01:00
END:STANDARD
END:VTIMEZONE
BEGIN:VEVENT
UID:20260425T225647CEST-8043vVe99L@horsealert.local
DTSTAMP:20260425T200447Z
CATEGORIES:Horse Alerts
DESCRIPTION:Join Us On Saturday 23rd March For Kilkenny GAA Day Mares \(Pro
 /Am\) Flat Race \(Div 2\)
DTSTART:20130216T171500
LOCATION:Eire
SUMMARY:Horse Racing:Join Us On Saturday 23rd March For Kilkenny GAA Day Ma
 res \(Pro/Am\) Flat Race \(Div 2\)
END:VEVENT
END:VCALENDAR
