BEGIN:VCALENDAR
VERSION:2.0
PRODID:-//horsealert.local//NONSGML kigkonsult.se iCalcreator 2.10.5//
CALSCALE:GREGORIAN
X-WR-TIMEZONE:Europe/Dublin
BEGIN:VTIMEZONE
TZID:Etc/GMT-1
BEGIN:STANDARD
DTSTART:20010101T000000
TZOFFSETFROM:+0100
TZOFFSETTO:+0100
TZNAME:GMT +01:00
END:STANDARD
END:VTIMEZONE
BEGIN:VEVENT
UID:20260425T225608CEST-3938e9irei@horsealert.local
DTSTAMP:20260425T200408Z
CATEGORIES:Horse Alerts
DESCRIPTION:Man v\'s Beast turn2me.org Challenge On Saturday 9th March Hand
 icap Hurdle \(81-123\) \(Div 1\)
DTSTART:20130216T154000
LOCATION:Eire
SUMMARY:Horse Racing:Man v\'s Beast turn2me.org Challenge On Saturday 9th M
 arch Handicap Hurdle \(81-123\) \(Div 1\)
END:VEVENT
END:VCALENDAR
