BEGIN:VCALENDAR
VERSION:2.0
PRODID:-//horsealert.local//NONSGML kigkonsult.se iCalcreator 2.10.5//
CALSCALE:GREGORIAN
X-WR-TIMEZONE:Europe/Dublin
BEGIN:VTIMEZONE
TZID:Etc/GMT-1
BEGIN:STANDARD
DTSTART:20010101T000000
TZOFFSETFROM:+0100
TZOFFSETTO:+0100
TZNAME:GMT +01:00
END:STANDARD
END:VTIMEZONE
BEGIN:VEVENT
UID:20260426T023953CEST-2290WpAUVV@horsealert.local
DTSTAMP:20260426T000453Z
CATEGORIES:Horse Alerts
DESCRIPTION:Irish Stablestaff Association Awards 23rd February Handicap \(4
 7-65\)
DTSTART:20130215T185000
LOCATION:Eire
SUMMARY:Horse Racing:Irish Stablestaff Association Awards 23rd February Han
 dicap \(47-65\)
END:VEVENT
END:VCALENDAR
