BEGIN:VCALENDAR
VERSION:2.0
PRODID:-//horsealert.local//NONSGML kigkonsult.se iCalcreator 2.10.5//
CALSCALE:GREGORIAN
X-WR-TIMEZONE:Europe/Dublin
BEGIN:VTIMEZONE
TZID:Etc/GMT-1
BEGIN:STANDARD
DTSTART:20010101T000000
TZOFFSETFROM:+0100
TZOFFSETTO:+0100
TZNAME:GMT +01:00
END:STANDARD
END:VTIMEZONE
BEGIN:VEVENT
UID:20260426T043707CEST-9028ocoutG@horsealert.local
DTSTAMP:20260426T020407Z
CATEGORIES:Horse Alerts
DESCRIPTION:Watch Racing UK On Freeview 231 Handicap Hurdle \(For The Kelso
  Annual Members Nisbet Cup\)
DTSTART:20130214T154000
LOCATION:Scotland
SUMMARY:Horse Racing:Watch Racing UK On Freeview 231 Handicap Hurdle \(For 
 The Kelso Annual Members Nisbet Cup\)
END:VEVENT
END:VCALENDAR
