BEGIN:VCALENDAR
VERSION:2.0
PRODID:-//horsealert.local//NONSGML kigkonsult.se iCalcreator 2.10.5//
CALSCALE:GREGORIAN
X-WR-TIMEZONE:Europe/Dublin
BEGIN:VTIMEZONE
TZID:Etc/GMT-1
BEGIN:STANDARD
DTSTART:20010101T000000
TZOFFSETFROM:+0100
TZOFFSETTO:+0100
TZNAME:GMT +01:00
END:STANDARD
END:VTIMEZONE
BEGIN:VEVENT
UID:20260426T023953CEST-4717vC5XGo@horsealert.local
DTSTAMP:20260426T000453Z
CATEGORIES:Horse Alerts
DESCRIPTION:Amateur Jockeys\' Association Amateur Riders\' Handicap Chase
DTSTART:20130214T141000
LOCATION:Scotland
SUMMARY:Horse Racing:Amateur Jockeys\' Association Amateur Riders\' Handica
 p Chase
END:VEVENT
END:VCALENDAR
