BEGIN:VCALENDAR
VERSION:2.0
PRODID:-//horsealert.local//NONSGML kigkonsult.se iCalcreator 2.10.5//
CALSCALE:GREGORIAN
X-WR-TIMEZONE:Europe/Dublin
BEGIN:VTIMEZONE
TZID:Etc/GMT-1
BEGIN:STANDARD
DTSTART:20010101T000000
TZOFFSETFROM:+0100
TZOFFSETTO:+0100
TZNAME:GMT +01:00
END:STANDARD
END:VTIMEZONE
BEGIN:VEVENT
UID:20260425T225603CEST-4433uwZc2e@horsealert.local
DTSTAMP:20260425T200403Z
CATEGORIES:Horse Alerts
DESCRIPTION:Bet Europa League Now With BetVictor Median Auction Maiden Fill
 ies\' Stakes
DTSTART:20130214T180000
LOCATION:England
SUMMARY:Horse Racing:Bet Europa League Now With BetVictor Median Auction Ma
 iden Fillies\' Stakes
END:VEVENT
END:VCALENDAR
