BEGIN:VCALENDAR
VERSION:2.0
PRODID:-//horsealert.local//NONSGML kigkonsult.se iCalcreator 2.10.5//
CALSCALE:GREGORIAN
X-WR-TIMEZONE:Europe/Dublin
BEGIN:VTIMEZONE
TZID:Etc/GMT-1
BEGIN:STANDARD
DTSTART:20010101T000000
TZOFFSETFROM:+0100
TZOFFSETTO:+0100
TZNAME:GMT +01:00
END:STANDARD
END:VTIMEZONE
BEGIN:VEVENT
UID:20260426T004254CEST-2394g46V0p@horsealert.local
DTSTAMP:20260425T220454Z
CATEGORIES:Horse Alerts
DESCRIPTION:thurles.ie \(C & G\) Maiden Hurdle
DTSTART:20130213T143500
LOCATION:Eire
SUMMARY:Horse Racing:thurles.ie \(C & G\) Maiden Hurdle
END:VEVENT
END:VCALENDAR
