BEGIN:VCALENDAR
VERSION:2.0
PRODID:-//horsealert.local//NONSGML kigkonsult.se iCalcreator 2.10.5//
CALSCALE:GREGORIAN
X-WR-TIMEZONE:Europe/Dublin
BEGIN:VTIMEZONE
TZID:Etc/GMT-1
BEGIN:STANDARD
DTSTART:20010101T000000
TZOFFSETFROM:+0100
TZOFFSETTO:+0100
TZNAME:GMT +01:00
END:STANDARD
END:VTIMEZONE
BEGIN:VEVENT
UID:20260426T023945CEST-7134tFuUef@horsealert.local
DTSTAMP:20260426T000445Z
CATEGORIES:Horse Alerts
DESCRIPTION:BetVictor Non Runner Free Bet At Cheltenham Handicap Chase
DTSTART:20130212T160000
LOCATION:Scotland
SUMMARY:Horse Racing:BetVictor Non Runner Free Bet At Cheltenham Handicap C
 hase
END:VEVENT
END:VCALENDAR
