BEGIN:VCALENDAR
VERSION:2.0
PRODID:-//horsealert.local//NONSGML kigkonsult.se iCalcreator 2.10.5//
CALSCALE:GREGORIAN
X-WR-TIMEZONE:Europe/Dublin
BEGIN:VTIMEZONE
TZID:Etc/GMT-1
BEGIN:STANDARD
DTSTART:20010101T000000
TZOFFSETFROM:+0100
TZOFFSETTO:+0100
TZNAME:GMT +01:00
END:STANDARD
END:VTIMEZONE
BEGIN:VEVENT
UID:20260426T004258CEST-7001iZcMT2@horsealert.local
DTSTAMP:20260425T220458Z
CATEGORIES:Horse Alerts
DESCRIPTION:Pick The Best Bookies At bookmakers.co.uk Selling Stakes
DTSTART:20130212T144500
LOCATION:England
SUMMARY:Horse Racing:Pick The Best Bookies At bookmakers.co.uk Selling Stak
 es
END:VEVENT
END:VCALENDAR
