BEGIN:VCALENDAR
VERSION:2.0
PRODID:-//horsealert.local//NONSGML kigkonsult.se iCalcreator 2.10.5//
CALSCALE:GREGORIAN
X-WR-TIMEZONE:Europe/Dublin
BEGIN:VTIMEZONE
TZID:Etc/GMT-1
BEGIN:STANDARD
DTSTART:20010101T000000
TZOFFSETFROM:+0100
TZOFFSETTO:+0100
TZNAME:GMT +01:00
END:STANDARD
END:VTIMEZONE
BEGIN:VEVENT
UID:20260425T225629CEST-3649Dk5obW@horsealert.local
DTSTAMP:20260425T200429Z
CATEGORIES:Horse Alerts
DESCRIPTION:Banner Marquees Conditional Jockeys\' Selling Hurdle
DTSTART:20130209T134000
LOCATION:England
SUMMARY:Horse Racing:Banner Marquees Conditional Jockeys\' Selling Hurdle
END:VEVENT
END:VCALENDAR
